BEGIN:VCALENDAR
VERSION:2.0
PRODID:-//Tukios.com/
BEGIN:VEVENT
UID:9588246e-e6cf-4a2a-b3eb-c43257caa816@www.oaklandmemorial.com
DTSTAMP:20260423T210256Z
DTSTART:20260503T160000Z
DTEND:20260503T200000Z
SUMMARY:Memorial Visitation
DESCRIPTION:
URL:https://www.oaklandmemorial.com/obituaries/donna-dent
LOCATION:Oakland Memorial Home 330 Ramapo valley Road  Oakland NJ 07436
GEO:41.0231406;-74.2430026
END:VEVENT
END:VCALENDAR