BEGIN:VCALENDAR
VERSION:2.0
PRODID:-//Tukios.com/
BEGIN:VEVENT
UID:56deb54b-e0d8-479d-b703-ae561c393437@www.oaklandmemorial.com
DTSTAMP:20260425T005329Z
DTSTART:20260430T170000Z
DTEND:20260430T190000Z
SUMMARY:Memorial Visitation
DESCRIPTION:
URL:https://www.oaklandmemorial.com/obituaries/claire-shine
LOCATION:Oakland Memorial Home 330 Ramapo valley Road  Oakland NJ 07436
GEO:41.0231406;-74.2430026
END:VEVENT
END:VCALENDAR