BEGIN:VCALENDAR
VERSION:2.0
PRODID:-//Tukios.com/
BEGIN:VEVENT
UID:c6aaa6b5-1e14-4d86-bdf6-413934cd5838@www.oaklandmemorial.com
DTSTAMP:20260425T004957Z
DTSTART:20260501T170000Z
DTEND:20260501T180000Z
SUMMARY:Funeral Liturgy
DESCRIPTION:
URL:https://www.oaklandmemorial.com/obituaries/claire-shine
LOCATION:Most Blessed Sacrament 787 Franklin Lakes Rd  Franklin Lakes NJ 
	07417
GEO:40.9943652;-74.2116587
END:VEVENT
END:VCALENDAR