BEGIN:VCALENDAR
VERSION:2.0
PRODID:-//Tukios.com/
BEGIN:VEVENT
UID:b1bc765d-5fa2-4858-9a4e-a591c75cc5fb@www.oaklandmemorial.com
DTSTAMP:20260425T004702Z
DTSTART:20260430T210000Z
DTEND:20260430T230000Z
SUMMARY:Memorial Visitation
DESCRIPTION:
URL:https://www.oaklandmemorial.com/obituaries/claire-shine
LOCATION:Oakland Memorial Home 330 Ramapo valley Road  Oakland NJ 07436
GEO:41.0231406;-74.2430026
END:VEVENT
END:VCALENDAR